Package: cypress Version: 1.5.0 Command: /home/biocbuild/bbs-3.22-bioc/R/bin/R CMD INSTALL cypress StartedAt: 2025-10-24 16:11:44 -0400 (Fri, 24 Oct 2025) EndedAt: 2025-10-24 16:12:14 -0400 (Fri, 24 Oct 2025) EllapsedTime: 29.6 seconds RetCode: 0 Status: OK