Package: cypress Version: 1.6.0 Command: /Library/Frameworks/R.framework/Resources/bin/R CMD build --keep-empty-dirs --no-resave-data cypress StartedAt: 2025-10-31 16:09:56 -0400 (Fri, 31 Oct 2025) EndedAt: 2025-10-31 16:11:41 -0400 (Fri, 31 Oct 2025) EllapsedTime: 105.1 seconds RetCode: 0 Status: OK PackageFile: cypress_1.6.0.tar.gz PackageFileSize: 2.719 MiB