Package: cydar Version: 1.33.0 Command: /home/biocbuild/bbs-3.22-bioc/R/bin/R CMD INSTALL cydar StartedAt: 2025-10-24 15:42:11 -0400 (Fri, 24 Oct 2025) EndedAt: 2025-10-24 15:42:57 -0400 (Fri, 24 Oct 2025) EllapsedTime: 46.7 seconds RetCode: 0 Status: OK