Package: cycle Version: 1.63.0 Command: /home/biocbuild/bbs-3.22-bioc/R/bin/R CMD INSTALL cycle StartedAt: 2025-10-24 15:24:40 -0400 (Fri, 24 Oct 2025) EndedAt: 2025-10-24 15:24:43 -0400 (Fri, 24 Oct 2025) EllapsedTime: 3.7 seconds RetCode: 0 Status: OK