Package: cycle Version: 1.63.0 Command: /home/biocbuild/bbs-3.22-bioc/R/bin/R CMD build --keep-empty-dirs --no-resave-data --md5 cycle StartedAt: 2025-10-24 17:16:48 -0400 (Fri, 24 Oct 2025) EndedAt: 2025-10-24 17:17:12 -0400 (Fri, 24 Oct 2025) EllapsedTime: 24.0 seconds RetCode: 0 Status: OK PackageFile: cycle_1.63.0.tar.gz PackageFileSize: 248.4 KiB