Package: customProDB Version: 1.50.0 Command: /home/biocbuild/R/R/bin/R CMD INSTALL customProDB StartedAt: 2025-11-24 21:48:47 -0000 (Mon, 24 Nov 2025) EndedAt: 2025-11-24 21:49:43 -0000 (Mon, 24 Nov 2025) EllapsedTime: 56.3 seconds RetCode: 0 Status: OK