Package: customProDB Version: 1.49.0 Command: /home/biocbuild/bbs-3.22-bioc/R/bin/R CMD INSTALL customProDB StartedAt: 2025-10-24 15:51:03 -0400 (Fri, 24 Oct 2025) EndedAt: 2025-10-24 15:51:46 -0400 (Fri, 24 Oct 2025) EllapsedTime: 43.0 seconds RetCode: 0 Status: OK