Package: customProDB Version: 1.49.0 Command: /home/biocbuild/bbs-3.22-bioc/R/bin/R CMD check --install=check:customProDB.install-out.txt --library=/home/biocbuild/bbs-3.22-bioc/R/site-library --timings customProDB_1.49.0.tar.gz StartedAt: 2025-10-24 22:43:07 -0400 (Fri, 24 Oct 2025) EndedAt: 2025-10-24 22:48:40 -0400 (Fri, 24 Oct 2025) EllapsedTime: 333.3 seconds RetCode: 1 Status: ERROR CheckDir: customProDB.Rcheck Warnings: NA