Package: customProDB Version: 1.49.0 Command: /home/biocbuild/bbs-3.22-bioc/R/bin/R CMD build --keep-empty-dirs --no-resave-data --md5 customProDB StartedAt: 2025-10-24 17:16:27 -0400 (Fri, 24 Oct 2025) EndedAt: 2025-10-24 17:17:40 -0400 (Fri, 24 Oct 2025) EllapsedTime: 73.0 seconds RetCode: 0 Status: OK PackageFile: customProDB_1.49.0.tar.gz PackageFileSize: 542.7 KiB