Package: customProDB Version: 1.49.0 Command: /Library/Frameworks/R.framework/Resources/bin/R CMD INSTALL customProDB StartedAt: 2025-10-24 15:44:47 -0400 (Fri, 24 Oct 2025) EndedAt: 2025-10-24 15:45:46 -0400 (Fri, 24 Oct 2025) EllapsedTime: 58.6 seconds RetCode: 0 Status: OK