Package: customProDB Version: 1.49.0 Command: /Library/Frameworks/R.framework/Resources/bin/R CMD build --keep-empty-dirs --no-resave-data customProDB StartedAt: 2025-10-24 16:43:40 -0400 (Fri, 24 Oct 2025) EndedAt: 2025-10-24 16:45:06 -0400 (Fri, 24 Oct 2025) EllapsedTime: 86.8 seconds RetCode: 0 Status: OK PackageFile: customProDB_1.49.0.tar.gz PackageFileSize: 539.9 KiB