Package: customProDB Version: 1.49.0 Command: /Library/Frameworks/R.framework/Resources/bin/R CMD INSTALL customProDB StartedAt: 2025-10-24 15:23:37 -0400 (Fri, 24 Oct 2025) EndedAt: 2025-10-24 15:23:54 -0400 (Fri, 24 Oct 2025) EllapsedTime: 17.9 seconds RetCode: 0 Status: OK