Package: customProDB Version: 1.49.0 Command: rm -rf customProDB.buildbin-libdir && mkdir customProDB.buildbin-libdir && /Users/biocbuild/BBS/utils/build-universal.sh customProDB_1.49.0.tar.gz /Library/Frameworks/R.framework/Resources/bin/R customProDB.buildbin-libdir StartedAt: 2025-10-24 22:59:39 -0400 (Fri, 24 Oct 2025) EndedAt: 2025-10-24 22:59:59 -0400 (Fri, 24 Oct 2025) EllapsedTime: 19.4 seconds RetCode: 0 Status: OK PackageFile: customProDB_1.49.0.tgz PackageFileSize: 719.8 KiB