Package: customCMPdb Version: 1.19.0 Command: /Library/Frameworks/R.framework/Resources/bin/R CMD INSTALL customCMPdb StartedAt: 2025-10-24 15:34:05 -0400 (Fri, 24 Oct 2025) EndedAt: 2025-10-24 15:34:30 -0400 (Fri, 24 Oct 2025) EllapsedTime: 24.6 seconds RetCode: 0 Status: OK