Package: customCMPdb Version: 1.19.0 Command: rm -rf customCMPdb.buildbin-libdir && mkdir customCMPdb.buildbin-libdir && /Users/biocbuild/BBS/utils/build-universal.sh customCMPdb_1.19.0.tar.gz /Library/Frameworks/R.framework/Resources/bin/R customCMPdb.buildbin-libdir StartedAt: 2025-10-25 01:35:36 -0400 (Sat, 25 Oct 2025) EndedAt: 2025-10-25 01:36:03 -0400 (Sat, 25 Oct 2025) EllapsedTime: 27.8 seconds RetCode: 0 Status: OK PackageFile: customCMPdb_1.19.0.tgz PackageFileSize: 735.3 KiB