Package: customCMPdb Version: 1.19.0 Command: /Library/Frameworks/R.framework/Resources/bin/R CMD INSTALL customCMPdb StartedAt: 2025-10-24 15:11:38 -0400 (Fri, 24 Oct 2025) EndedAt: 2025-10-24 15:11:46 -0400 (Fri, 24 Oct 2025) EllapsedTime: 7.3 seconds RetCode: 0 Status: OK