Package: customCMPdb Version: 1.19.0 Command: rm -rf customCMPdb.buildbin-libdir && mkdir customCMPdb.buildbin-libdir && /Users/biocbuild/BBS/utils/build-universal.sh customCMPdb_1.19.0.tar.gz /Library/Frameworks/R.framework/Resources/bin/R customCMPdb.buildbin-libdir StartedAt: 2025-10-24 22:59:39 -0400 (Fri, 24 Oct 2025) EndedAt: 2025-10-24 22:59:48 -0400 (Fri, 24 Oct 2025) EllapsedTime: 8.2 seconds RetCode: 0 Status: OK PackageFile: customCMPdb_1.19.0.tgz PackageFileSize: 736.3 KiB