Package: customCMPdb Version: 1.20.0 Maintainer: Yuzhu Duan MaintainerEmail: yduan004 at ucr.edu git_url: https://git.bioconductor.org/packages/customCMPdb git_branch: RELEASE_3_22 git_last_commit: b3dd69a git_last_commit_date: 2025-10-29 11:03:08 -0400 (Wed, 29 Oct 2025)