Package: ctc Version: 1.83.0 Command: /home/biocbuild/bbs-3.22-bioc/R/bin/R CMD build --keep-empty-dirs --no-resave-data --md5 ctc StartedAt: 2025-10-24 17:15:30 -0400 (Fri, 24 Oct 2025) EndedAt: 2025-10-24 17:15:35 -0400 (Fri, 24 Oct 2025) EllapsedTime: 5.0 seconds RetCode: 0 Status: OK PackageFile: ctc_1.83.0.tar.gz PackageFileSize: 271.2 KiB