Package: ctc Version: 1.84.0 Command: /Library/Frameworks/R.framework/Resources/bin/R CMD INSTALL ctc StartedAt: 2025-10-31 15:05:29 -0400 (Fri, 31 Oct 2025) EndedAt: 2025-10-31 15:05:40 -0400 (Fri, 31 Oct 2025) EllapsedTime: 11.0 seconds RetCode: 0 Status: OK