Package: ctc Version: 1.84.0 Command: rm -rf ctc.buildbin-libdir && mkdir ctc.buildbin-libdir && /Users/biocbuild/BBS/utils/build-universal.sh ctc_1.84.0.tar.gz /Library/Frameworks/R.framework/Resources/bin/R ctc.buildbin-libdir StartedAt: 2025-10-31 23:03:30 -0400 (Fri, 31 Oct 2025) EndedAt: 2025-10-31 23:03:32 -0400 (Fri, 31 Oct 2025) EllapsedTime: 2.0 seconds RetCode: 0 Status: OK PackageFile: ctc_1.84.0.tgz PackageFileSize: 319.3 KiB