Package: csdR Version: 1.15.0 Command: /home/biocbuild/R/R/bin/R CMD build --keep-empty-dirs --no-resave-data csdR StartedAt: 2025-10-20 23:03:50 -0000 (Mon, 20 Oct 2025) EndedAt: 2025-10-20 23:04:51 -0000 (Mon, 20 Oct 2025) EllapsedTime: 61.0 seconds RetCode: 0 Status: OK PackageFile: csdR_1.15.0.tar.gz PackageFileSize: 1.388 MiB