Package: csdR Version: 1.15.0 Command: /Library/Frameworks/R.framework/Resources/bin/R CMD INSTALL csdR StartedAt: 2025-10-24 15:42:33 -0400 (Fri, 24 Oct 2025) EndedAt: 2025-10-24 15:43:14 -0400 (Fri, 24 Oct 2025) EllapsedTime: 41.0 seconds RetCode: 0 Status: OK