Package: csdR Version: 1.15.0 Command: /Library/Frameworks/R.framework/Resources/bin/R CMD INSTALL csdR StartedAt: 2025-10-27 15:22:51 -0400 (Mon, 27 Oct 2025) EndedAt: 2025-10-27 15:23:01 -0400 (Mon, 27 Oct 2025) EllapsedTime: 10.5 seconds RetCode: 0 Status: OK