Package: csdR Version: 1.15.0 Command: /Library/Frameworks/R.framework/Resources/bin/R CMD build --keep-empty-dirs --no-resave-data csdR StartedAt: 2025-10-26 16:06:25 -0400 (Sun, 26 Oct 2025) EndedAt: 2025-10-26 16:06:48 -0400 (Sun, 26 Oct 2025) EllapsedTime: 22.3 seconds RetCode: 0 Status: OK PackageFile: csdR_1.15.0.tar.gz PackageFileSize: 1.46 MiB