Package: csdR Version: 1.15.0 Command: rm -rf csdR.buildbin-libdir && mkdir csdR.buildbin-libdir && /Users/biocbuild/BBS/utils/build-universal.sh csdR_1.15.0.tar.gz /Library/Frameworks/R.framework/Resources/bin/R csdR.buildbin-libdir StartedAt: 2025-10-26 22:33:19 -0400 (Sun, 26 Oct 2025) EndedAt: 2025-10-26 22:33:30 -0400 (Sun, 26 Oct 2025) EllapsedTime: 11.2 seconds RetCode: 0 Status: OK PackageFile: csdR_1.15.0.tgz PackageFileSize: 1.507 MiB