Package: csaw Version: 1.44.0 Command: /home/biocbuild/bbs-3.22-bioc/R/bin/R CMD check --install=check:csaw.install-out.txt --library=/home/biocbuild/bbs-3.22-bioc/R/site-library --timings csaw_1.44.0.tar.gz StartedAt: 2025-10-30 04:52:45 -0400 (Thu, 30 Oct 2025) EndedAt: 2025-10-30 05:00:12 -0400 (Thu, 30 Oct 2025) EllapsedTime: 447.3 seconds RetCode: 0 Status: OK CheckDir: csaw.Rcheck Warnings: 0