Package: csaw Version: 1.43.1 Command: /home/biocbuild/bbs-3.22-bioc/R/bin/R CMD build --keep-empty-dirs --no-resave-data --md5 csaw StartedAt: 2025-10-24 17:14:49 -0400 (Fri, 24 Oct 2025) EndedAt: 2025-10-24 17:16:11 -0400 (Fri, 24 Oct 2025) EllapsedTime: 82.1 seconds RetCode: 0 Status: OK PackageFile: csaw_1.43.1.tar.gz PackageFileSize: 392.6 KiB