Package: csaw Version: 1.43.1 Command: /Library/Frameworks/R.framework/Resources/bin/R CMD INSTALL csaw StartedAt: 2025-10-24 15:26:39 -0400 (Fri, 24 Oct 2025) EndedAt: 2025-10-24 15:28:12 -0400 (Fri, 24 Oct 2025) EllapsedTime: 93.5 seconds RetCode: 0 Status: OK