Package: csaw Version: 1.43.1 Command: rm -rf csaw.buildbin-libdir && mkdir csaw.buildbin-libdir && /Users/biocbuild/BBS/utils/build-universal.sh csaw_1.43.1.tar.gz /Library/Frameworks/R.framework/Resources/bin/R csaw.buildbin-libdir StartedAt: 2025-10-25 01:35:16 -0400 (Sat, 25 Oct 2025) EndedAt: 2025-10-25 01:36:53 -0400 (Sat, 25 Oct 2025) EllapsedTime: 96.9 seconds RetCode: 0 Status: OK PackageFile: csaw_1.43.1.tgz PackageFileSize: 1.321 MiB