Package: csaw Version: 1.43.1 Command: /Library/Frameworks/R.framework/Resources/bin/R CMD INSTALL csaw StartedAt: 2025-10-27 15:11:03 -0400 (Mon, 27 Oct 2025) EndedAt: 2025-10-27 15:11:27 -0400 (Mon, 27 Oct 2025) EllapsedTime: 24.2 seconds RetCode: 0 Status: OK