Package: csaw Version: 1.43.1 Command: /Library/Frameworks/R.framework/Resources/bin/R CMD build --keep-empty-dirs --no-resave-data csaw StartedAt: 2025-10-26 16:06:15 -0400 (Sun, 26 Oct 2025) EndedAt: 2025-10-26 16:06:46 -0400 (Sun, 26 Oct 2025) EllapsedTime: 30.4 seconds RetCode: 0 Status: OK PackageFile: csaw_1.43.1.tar.gz PackageFileSize: 389.2 KiB