Package: crupR Version: 1.1.1 Command: /Library/Frameworks/R.framework/Resources/bin/R CMD build --keep-empty-dirs --no-resave-data crupR StartedAt: 2025-10-24 16:06:48 -0400 (Fri, 24 Oct 2025) EndedAt: 2025-10-24 16:10:53 -0400 (Fri, 24 Oct 2025) EllapsedTime: 244.7 seconds RetCode: 0 Status: OK PackageFile: crupR_1.1.1.tar.gz PackageFileSize: 4.149 MiB