Package: crlmm Version: 1.67.0 Command: /home/biocbuild/bbs-3.22-bioc/R/bin/R CMD INSTALL crlmm StartedAt: 2025-10-24 15:40:48 -0400 (Fri, 24 Oct 2025) EndedAt: 2025-10-24 15:41:29 -0400 (Fri, 24 Oct 2025) EllapsedTime: 41.6 seconds RetCode: 0 Status: OK