Package: crisprViz Version: 1.11.1 Command: /home/biocbuild/bbs-3.22-bioc/R/bin/R CMD build --keep-empty-dirs --no-resave-data --md5 crisprViz StartedAt: 2025-10-24 17:13:58 -0400 (Fri, 24 Oct 2025) EndedAt: 2025-10-24 17:16:15 -0400 (Fri, 24 Oct 2025) EllapsedTime: 137.1 seconds RetCode: 0 Status: OK PackageFile: crisprViz_1.11.1.tar.gz PackageFileSize: 1.257 MiB