Package: crisprShiny Version: 1.5.1 Command: /home/biocbuild/bbs-3.22-bioc/R/bin/R CMD build --keep-empty-dirs --no-resave-data --md5 crisprShiny StartedAt: 2025-10-24 17:13:32 -0400 (Fri, 24 Oct 2025) EndedAt: 2025-10-24 17:14:28 -0400 (Fri, 24 Oct 2025) EllapsedTime: 56.1 seconds RetCode: 0 Status: OK PackageFile: crisprShiny_1.5.1.tar.gz PackageFileSize: 1.584 MiB