Package: crisprScore Version: 1.13.1 Command: /home/biocbuild/bbs-3.22-bioc/R/bin/R CMD build --keep-empty-dirs --no-resave-data --md5 crisprScore StartedAt: 2025-10-24 17:13:24 -0400 (Fri, 24 Oct 2025) EndedAt: 2025-10-24 17:13:49 -0400 (Fri, 24 Oct 2025) EllapsedTime: 25.0 seconds RetCode: 0 Status: OK PackageFile: crisprScore_1.13.1.tar.gz PackageFileSize: 4.514 MiB