Package: crisprScore Version: 1.14.0 Command: /Library/Frameworks/R.framework/Resources/bin/R CMD INSTALL crisprScore StartedAt: 2025-11-10 15:09:23 -0500 (Mon, 10 Nov 2025) EndedAt: 2025-11-10 15:09:29 -0500 (Mon, 10 Nov 2025) EllapsedTime: 6.5 seconds RetCode: 0 Status: OK