Package: crisprScore Version: 1.14.0 Command: /Library/Frameworks/R.framework/Resources/bin/R CMD build --keep-empty-dirs --no-resave-data crisprScore StartedAt: 2025-11-10 16:03:20 -0500 (Mon, 10 Nov 2025) EndedAt: 2025-11-10 16:03:33 -0500 (Mon, 10 Nov 2025) EllapsedTime: 12.1 seconds RetCode: 0 Status: OK PackageFile: crisprScore_1.14.0.tar.gz PackageFileSize: 4.5 MiB