Package: crisprScore Version: 1.14.0 Command: rm -rf crisprScore.buildbin-libdir && mkdir crisprScore.buildbin-libdir && /Users/biocbuild/BBS/utils/build-universal.sh crisprScore_1.14.0.tar.gz /Library/Frameworks/R.framework/Resources/bin/R crisprScore.buildbin-libdir StartedAt: 2025-11-10 23:16:23 -0500 (Mon, 10 Nov 2025) EndedAt: 2025-11-10 23:16:31 -0500 (Mon, 10 Nov 2025) EllapsedTime: 8.1 seconds RetCode: 0 Status: OK PackageFile: crisprScore_1.14.0.tgz PackageFileSize: 4.399 MiB