Package: crisprDesign Version: 1.11.1 Command: /home/biocbuild/bbs-3.22-bioc/R/bin/R CMD INSTALL crisprDesign StartedAt: 2025-10-24 15:56:06 -0400 (Fri, 24 Oct 2025) EndedAt: 2025-10-24 15:56:57 -0400 (Fri, 24 Oct 2025) EllapsedTime: 51.2 seconds RetCode: 0 Status: OK