Package: crisprDesign Version: 1.11.1 Command: /home/biocbuild/bbs-3.22-bioc/R/bin/R CMD build --keep-empty-dirs --no-resave-data --md5 crisprDesign StartedAt: 2025-10-24 17:13:12 -0400 (Fri, 24 Oct 2025) EndedAt: 2025-10-24 17:14:49 -0400 (Fri, 24 Oct 2025) EllapsedTime: 97.1 seconds RetCode: 0 Status: OK PackageFile: crisprDesign_1.11.1.tar.gz PackageFileSize: 2.615 MiB