Package: crisprDesign Version: 1.12.0 Command: /Library/Frameworks/R.framework/Resources/bin/R CMD INSTALL crisprDesign StartedAt: 2025-10-31 15:27:34 -0400 (Fri, 31 Oct 2025) EndedAt: 2025-10-31 15:27:55 -0400 (Fri, 31 Oct 2025) EllapsedTime: 21.0 seconds RetCode: 0 Status: OK