Package: crisprDesign Version: 1.12.0 Command: /Library/Frameworks/R.framework/Resources/bin/R CMD build --keep-empty-dirs --no-resave-data crisprDesign StartedAt: 2025-10-31 16:07:07 -0400 (Fri, 31 Oct 2025) EndedAt: 2025-10-31 16:07:47 -0400 (Fri, 31 Oct 2025) EllapsedTime: 39.4 seconds RetCode: 0 Status: OK PackageFile: crisprDesign_1.12.0.tar.gz PackageFileSize: 2.608 MiB