Package: crisprBase Version: 1.13.0 Command: /home/biocbuild/bbs-3.22-bioc/R/bin/R CMD INSTALL crisprBase StartedAt: 2025-10-24 15:25:57 -0400 (Fri, 24 Oct 2025) EndedAt: 2025-10-24 15:26:11 -0400 (Fri, 24 Oct 2025) EllapsedTime: 14.5 seconds RetCode: 0 Status: OK