Package: crisprBase Version: 1.14.0 Command: /Library/Frameworks/R.framework/Resources/bin/R CMD INSTALL crisprBase StartedAt: 2025-11-03 15:22:18 -0500 (Mon, 03 Nov 2025) EndedAt: 2025-11-03 15:22:40 -0500 (Mon, 03 Nov 2025) EllapsedTime: 22.2 seconds RetCode: 0 Status: OK