Package: crisprBase Version: 1.14.0 Command: /Library/Frameworks/R.framework/Resources/bin/R CMD build --keep-empty-dirs --no-resave-data crisprBase StartedAt: 2025-11-03 16:36:47 -0500 (Mon, 03 Nov 2025) EndedAt: 2025-11-03 16:37:18 -0500 (Mon, 03 Nov 2025) EllapsedTime: 30.8 seconds RetCode: 0 Status: OK PackageFile: crisprBase_1.14.0.tar.gz PackageFileSize: 1.752 MiB