Package: crisprBase Version: 1.14.0 Command: rm -rf crisprBase.buildbin-libdir && mkdir crisprBase.buildbin-libdir && /Users/biocbuild/BBS/utils/build-universal.sh crisprBase_1.14.0.tar.gz /Library/Frameworks/R.framework/Resources/bin/R crisprBase.buildbin-libdir StartedAt: 2025-11-04 01:34:47 -0500 (Tue, 04 Nov 2025) EndedAt: 2025-11-04 01:35:10 -0500 (Tue, 04 Nov 2025) EllapsedTime: 23.1 seconds RetCode: 0 Status: OK PackageFile: crisprBase_1.14.0.tgz PackageFileSize: 1.536 MiB