Package: crisprBase Version: 1.13.0 Command: rm -rf crisprBase.buildbin-libdir && mkdir crisprBase.buildbin-libdir && /Users/biocbuild/BBS/utils/build-universal.sh crisprBase_1.13.0.tar.gz /Library/Frameworks/R.framework/Resources/bin/R crisprBase.buildbin-libdir StartedAt: 2025-10-24 22:59:12 -0400 (Fri, 24 Oct 2025) EndedAt: 2025-10-24 22:59:19 -0400 (Fri, 24 Oct 2025) EllapsedTime: 7.2 seconds RetCode: 0 Status: OK PackageFile: crisprBase_1.13.0.tgz PackageFileSize: 1.511 MiB