Package: covEB Version: 1.35.0 Command: /home/biocbuild/bbs-3.22-bioc/R/bin/R CMD INSTALL covEB StartedAt: 2025-10-24 15:23:08 -0400 (Fri, 24 Oct 2025) EndedAt: 2025-10-24 15:23:14 -0400 (Fri, 24 Oct 2025) EllapsedTime: 6.5 seconds RetCode: 0 Status: OK